Package: MethylMix Version: 2.36.0 Command: F:\biocbuild\bbs-3.20-bioc\R\bin\R.exe CMD check --no-multiarch --install=check:MethylMix.install-out.txt --library=F:\biocbuild\bbs-3.20-bioc\R\library --no-vignettes --timings MethylMix_2.36.0.tar.gz StartedAt: 2025-01-31 03:48:31 -0500 (Fri, 31 Jan 2025) EndedAt: 2025-01-31 03:51:01 -0500 (Fri, 31 Jan 2025) EllapsedTime: 150.0 seconds RetCode: 0 Status: OK CheckDir: MethylMix.Rcheck Warnings: 0