Package: MethylAid Version: 1.40.0 Command: F:\biocbuild\bbs-3.20-bioc\R\bin\R.exe CMD INSTALL MethylAid StartedAt: 2025-01-30 16:50:44 -0500 (Thu, 30 Jan 2025) EndedAt: 2025-01-30 16:51:45 -0500 (Thu, 30 Jan 2025) EllapsedTime: 61.8 seconds RetCode: 0 Status: OK