Package: MethylAid Version: 1.40.0 Command: /Library/Frameworks/R.framework/Resources/bin/R CMD check --install=check:MethylAid.install-out.txt --library=/Library/Frameworks/R.framework/Resources/library --no-vignettes --timings MethylAid_1.40.0.tar.gz StartedAt: 2025-02-01 00:39:59 -0500 (Sat, 01 Feb 2025) EndedAt: 2025-02-01 00:51:10 -0500 (Sat, 01 Feb 2025) EllapsedTime: 671.2 seconds RetCode: 0 Status: OK CheckDir: MethylAid.Rcheck Warnings: 0