Package: MethylAid Version: 1.40.0 Command: rm -rf MethylAid.buildbin-libdir && mkdir MethylAid.buildbin-libdir && /Users/biocbuild/BBS/utils/build-universal.sh MethylAid_1.40.0.tar.gz /Library/Frameworks/R.framework/Resources/bin/R MethylAid.buildbin-libdir StartedAt: 2025-02-01 15:40:05 -0500 (Sat, 01 Feb 2025) EndedAt: 2025-02-01 15:41:05 -0500 (Sat, 01 Feb 2025) EllapsedTime: 59.4 seconds RetCode: 0 Status: OK PackageFile: MethylAid_1.40.0.tgz PackageFileSize: 3.268 MiB