Package: MethTargetedNGS Version: 1.38.0 Command: /Library/Frameworks/R.framework/Resources/bin/R CMD INSTALL MethTargetedNGS StartedAt: 2025-01-30 15:20:31 -0500 (Thu, 30 Jan 2025) EndedAt: 2025-01-30 15:20:45 -0500 (Thu, 30 Jan 2025) EllapsedTime: 14.1 seconds RetCode: 0 Status: OK