Package: MetaNeighbor Version: 1.26.0 Command: /Library/Frameworks/R.framework/Resources/bin/R CMD INSTALL MetaNeighbor StartedAt: 2025-01-30 15:22:34 -0500 (Thu, 30 Jan 2025) EndedAt: 2025-01-30 15:22:44 -0500 (Thu, 30 Jan 2025) EllapsedTime: 9.9 seconds RetCode: 0 Status: OK