Package: MetNet Version: 1.24.0 Command: rm -rf MetNet.buildbin-libdir && mkdir MetNet.buildbin-libdir && /Users/biocbuild/BBS/utils/build-universal.sh MetNet_1.24.0.tar.gz /Library/Frameworks/R.framework/Resources/bin/R MetNet.buildbin-libdir StartedAt: 2025-01-31 13:09:11 -0500 (Fri, 31 Jan 2025) EndedAt: 2025-01-31 13:10:11 -0500 (Fri, 31 Jan 2025) EllapsedTime: 59.9 seconds RetCode: 0 Status: OK PackageFile: MetNet_1.24.0.tgz PackageFileSize: 4.33 MiB