Package: MetMashR Version: 1.0.0 Command: /home/biocbuild/R/R/bin/R CMD build --keep-empty-dirs --no-resave-data MetMashR StartedAt: 2025-01-31 00:51:56 -0000 (Fri, 31 Jan 2025) EndedAt: 2025-01-31 00:58:55 -0000 (Fri, 31 Jan 2025) EllapsedTime: 419.2 seconds RetCode: 1 Status: ERROR PackageFile: None PackageFileSize: NA