Package: MesKit Version: 1.16.0 Command: /home/biocbuild/R/R/bin/R CMD INSTALL MesKit StartedAt: 2025-01-30 20:34:40 -0000 (Thu, 30 Jan 2025) EndedAt: 2025-01-30 20:35:06 -0000 (Thu, 30 Jan 2025) EllapsedTime: 26.3 seconds RetCode: 0 Status: OK