Package: MesKit Version: 1.16.0 Command: /home/biocbuild/bbs-3.20-bioc/R/bin/R CMD INSTALL MesKit StartedAt: 2025-01-30 15:28:08 -0500 (Thu, 30 Jan 2025) EndedAt: 2025-01-30 15:28:29 -0500 (Thu, 30 Jan 2025) EllapsedTime: 20.1 seconds RetCode: 0 Status: OK