Package: MesKit Version: 1.16.0 Command: /Library/Frameworks/R.framework/Resources/bin/R CMD check --install=check:MesKit.install-out.txt --library=/Library/Frameworks/R.framework/Resources/library --no-vignettes --timings MesKit_1.16.0.tar.gz StartedAt: 2025-02-01 00:19:12 -0500 (Sat, 01 Feb 2025) EndedAt: 2025-02-01 00:27:51 -0500 (Sat, 01 Feb 2025) EllapsedTime: 519.0 seconds RetCode: 0 Status: WARNINGS CheckDir: MesKit.Rcheck Warnings: 1