Package: MesKit Version: 1.16.0 Command: rm -rf MesKit.buildbin-libdir && mkdir MesKit.buildbin-libdir && /Users/biocbuild/BBS/utils/build-universal.sh MesKit_1.16.0.tar.gz /Library/Frameworks/R.framework/Resources/bin/R MesKit.buildbin-libdir StartedAt: 2025-02-01 15:37:26 -0500 (Sat, 01 Feb 2025) EndedAt: 2025-02-01 15:37:54 -0500 (Sat, 01 Feb 2025) EllapsedTime: 28.1 seconds RetCode: 0 Status: OK PackageFile: MesKit_1.16.0.tgz PackageFileSize: 4.129 MiB