Package: Melissa Version: 1.22.0 Command: /home/biocbuild/R/R/bin/R CMD INSTALL Melissa StartedAt: 2025-01-30 20:50:18 -0000 (Thu, 30 Jan 2025) EndedAt: 2025-01-30 20:50:42 -0000 (Thu, 30 Jan 2025) EllapsedTime: 23.7 seconds RetCode: 0 Status: OK