Package: Melissa Version: 1.22.0 Command: /home/biocbuild/R/R/bin/R CMD build --keep-empty-dirs --no-resave-data Melissa StartedAt: 2025-01-31 00:43:37 -0000 (Fri, 31 Jan 2025) EndedAt: 2025-01-31 00:47:49 -0000 (Fri, 31 Jan 2025) EllapsedTime: 251.1 seconds RetCode: 0 Status: OK PackageFile: Melissa_1.22.0.tar.gz PackageFileSize: 2.469 MiB