Package: Melissa Version: 1.22.0 Command: chmod a+r Melissa -R && F:\biocbuild\bbs-3.20-bioc\R\bin\R.exe CMD build --keep-empty-dirs --no-resave-data Melissa StartedAt: 2025-01-30 19:58:06 -0500 (Thu, 30 Jan 2025) EndedAt: 2025-01-30 20:02:14 -0500 (Thu, 30 Jan 2025) EllapsedTime: 247.9 seconds RetCode: 0 Status: OK PackageFile: Melissa_1.22.0.tar.gz PackageFileSize: 2.196 MiB