Package: Melissa Version: 1.22.0 Command: rm -rf Melissa.buildbin-libdir && mkdir Melissa.buildbin-libdir && /Users/biocbuild/BBS/utils/build-universal.sh Melissa_1.22.0.tar.gz /Library/Frameworks/R.framework/Resources/bin/R Melissa.buildbin-libdir StartedAt: 2024-11-20 04:35:18 -0500 (Wed, 20 Nov 2024) EndedAt: 2024-11-20 04:35:55 -0500 (Wed, 20 Nov 2024) EllapsedTime: 36.8 seconds RetCode: 0 Status: OK PackageFile: Melissa_1.22.0.tgz PackageFileSize: 4.346 MiB