Package: Melissa Version: 1.22.0 Command: /Library/Frameworks/R.framework/Resources/bin/R CMD INSTALL Melissa StartedAt: 2025-01-30 17:16:04 -0500 (Thu, 30 Jan 2025) EndedAt: 2025-01-30 17:16:28 -0500 (Thu, 30 Jan 2025) EllapsedTime: 24.2 seconds RetCode: 0 Status: OK