Package: MatrixRider Version: 1.38.0 Command: F:\biocbuild\bbs-3.20-bioc\R\bin\R.exe CMD INSTALL MatrixRider StartedAt: 2025-01-30 16:22:09 -0500 (Thu, 30 Jan 2025) EndedAt: 2025-01-30 16:23:00 -0500 (Thu, 30 Jan 2025) EllapsedTime: 50.4 seconds RetCode: 0 Status: OK