Package: MassArray Version: 1.58.0 Command: /home/biocbuild/R/R/bin/R CMD check --install=check:MassArray.install-out.txt --library=/home/biocbuild/R/R/site-library --no-vignettes --timings MassArray_1.58.0.tar.gz StartedAt: 2025-01-31 07:44:54 -0000 (Fri, 31 Jan 2025) EndedAt: 2025-01-31 07:45:36 -0000 (Fri, 31 Jan 2025) EllapsedTime: 42.1 seconds RetCode: 0 Status: OK CheckDir: MassArray.Rcheck Warnings: 0