Package: MassArray Version: 1.58.0 Command: /Library/Frameworks/R.framework/Resources/bin/R CMD build --keep-empty-dirs --no-resave-data MassArray StartedAt: 2025-01-30 20:20:28 -0500 (Thu, 30 Jan 2025) EndedAt: 2025-01-30 20:21:54 -0500 (Thu, 30 Jan 2025) EllapsedTime: 86.4 seconds RetCode: 0 Status: OK PackageFile: MassArray_1.58.0.tar.gz PackageFileSize: 374.8 KiB