Package: MVCClass Version: 1.80.0 Command: F:\biocbuild\bbs-3.20-bioc\R\bin\R.exe CMD INSTALL MVCClass StartedAt: 2025-01-30 15:19:36 -0500 (Thu, 30 Jan 2025) EndedAt: 2025-01-30 15:20:17 -0500 (Thu, 30 Jan 2025) EllapsedTime: 41.2 seconds RetCode: 0 Status: OK