Package: MSstatsShiny Version: 1.8.0 Command: /home/biocbuild/bbs-3.20-bioc/R/bin/R CMD build --keep-empty-dirs --no-resave-data --md5 MSstatsShiny StartedAt: 2025-01-30 18:15:30 -0500 (Thu, 30 Jan 2025) EndedAt: 2025-01-30 18:16:06 -0500 (Thu, 30 Jan 2025) EllapsedTime: 36.0 seconds RetCode: 0 Status: OK PackageFile: MSstatsShiny_1.8.0.tar.gz PackageFileSize: 2.162 MiB