Package: MSstatsLOBD Version: 1.14.0 Command: /home/biocbuild/bbs-3.20-bioc/R/bin/R CMD build --keep-empty-dirs --no-resave-data --md5 MSstatsLOBD StartedAt: 2025-01-30 18:15:12 -0500 (Thu, 30 Jan 2025) EndedAt: 2025-01-30 18:15:30 -0500 (Thu, 30 Jan 2025) EllapsedTime: 18.0 seconds RetCode: 0 Status: OK PackageFile: MSstatsLOBD_1.14.0.tar.gz PackageFileSize: 367.3 KiB