Package: MSstatsConvert Version: 1.16.1 Command: /home/biocbuild/bbs-3.20-bioc/R/bin/R CMD INSTALL MSstatsConvert StartedAt: 2025-01-30 15:07:59 -0500 (Thu, 30 Jan 2025) EndedAt: 2025-01-30 15:08:06 -0500 (Thu, 30 Jan 2025) EllapsedTime: 6.7 seconds RetCode: 0 Status: OK