Package: MOSClip Version: 1.0.0 Command: rm -rf MOSClip.buildbin-libdir && mkdir MOSClip.buildbin-libdir && /Users/biocbuild/BBS/utils/build-universal.sh MOSClip_1.0.0.tar.gz /Library/Frameworks/R.framework/Resources/bin/R MOSClip.buildbin-libdir StartedAt: 2025-01-31 13:12:36 -0500 (Fri, 31 Jan 2025) EndedAt: 2025-01-31 13:14:23 -0500 (Fri, 31 Jan 2025) EllapsedTime: 106.6 seconds RetCode: 0 Status: OK PackageFile: MOSClip_1.0.0.tgz PackageFileSize: 2.406 MiB