Package: MOSClip Version: 1.0.0 Command: /Library/Frameworks/R.framework/Resources/bin/R CMD INSTALL MOSClip StartedAt: 2025-01-30 18:18:11 -0500 (Thu, 30 Jan 2025) EndedAt: 2025-01-30 18:19:08 -0500 (Thu, 30 Jan 2025) EllapsedTime: 56.8 seconds RetCode: 0 Status: OK