Package: MOSClip Version: 1.0.0 Command: rm -rf MOSClip.buildbin-libdir && mkdir MOSClip.buildbin-libdir && /Users/biocbuild/BBS/utils/build-universal.sh MOSClip_1.0.0.tar.gz /Library/Frameworks/R.framework/Resources/bin/R MOSClip.buildbin-libdir StartedAt: 2025-02-01 15:49:35 -0500 (Sat, 01 Feb 2025) EndedAt: 2025-02-01 15:50:35 -0500 (Sat, 01 Feb 2025) EllapsedTime: 60.1 seconds RetCode: 0 Status: OK PackageFile: MOSClip_1.0.0.tgz PackageFileSize: 2.42 MiB