Package: MOGAMUN Version: 1.16.0 Command: /Library/Frameworks/R.framework/Resources/bin/R CMD build --keep-empty-dirs --no-resave-data MOGAMUN StartedAt: 2025-01-30 20:52:05 -0500 (Thu, 30 Jan 2025) EndedAt: 2025-01-30 20:52:57 -0500 (Thu, 30 Jan 2025) EllapsedTime: 52.8 seconds RetCode: 0 Status: OK PackageFile: MOGAMUN_1.16.0.tar.gz PackageFileSize: 125.7 KiB