Package: MOGAMUN Version: 1.16.0 Command: /Library/Frameworks/R.framework/Resources/bin/R CMD check --install=check:MOGAMUN.install-out.txt --library=/Library/Frameworks/R.framework/Resources/library --no-vignettes --timings MOGAMUN_1.16.0.tar.gz StartedAt: 2025-02-01 01:47:16 -0500 (Sat, 01 Feb 2025) EndedAt: 2025-02-01 01:48:18 -0500 (Sat, 01 Feb 2025) EllapsedTime: 61.7 seconds RetCode: 0 Status: OK CheckDir: MOGAMUN.Rcheck Warnings: 0