Package: MODA Version: 1.32.0 Command: /home/biocbuild/R/R/bin/R CMD INSTALL MODA StartedAt: 2025-01-30 20:50:01 -0000 (Thu, 30 Jan 2025) EndedAt: 2025-01-30 20:50:24 -0000 (Thu, 30 Jan 2025) EllapsedTime: 23.3 seconds RetCode: 0 Status: OK