Package: MODA Version: 1.32.0 Command: /Library/Frameworks/R.framework/Resources/bin/R CMD INSTALL MODA StartedAt: 2025-01-30 16:13:53 -0500 (Thu, 30 Jan 2025) EndedAt: 2025-01-30 16:14:35 -0500 (Thu, 30 Jan 2025) EllapsedTime: 41.6 seconds RetCode: 0 Status: OK