Package: MODA Version: 1.32.0 Command: /Library/Frameworks/R.framework/Resources/bin/R CMD build --keep-empty-dirs --no-resave-data MODA StartedAt: 2025-01-30 20:51:05 -0500 (Thu, 30 Jan 2025) EndedAt: 2025-01-30 20:51:08 -0500 (Thu, 30 Jan 2025) EllapsedTime: 3.3 seconds RetCode: 0 Status: OK PackageFile: MODA_1.32.0.tar.gz PackageFileSize: 296.2 KiB