Package: MODA Version: 1.32.0 Command: rm -rf MODA.buildbin-libdir && mkdir MODA.buildbin-libdir && /Users/biocbuild/BBS/utils/build-universal.sh MODA_1.32.0.tar.gz /Library/Frameworks/R.framework/Resources/bin/R MODA.buildbin-libdir StartedAt: 2025-02-01 15:47:53 -0500 (Sat, 01 Feb 2025) EndedAt: 2025-02-01 15:48:17 -0500 (Sat, 01 Feb 2025) EllapsedTime: 23.9 seconds RetCode: 0 Status: OK PackageFile: MODA_1.32.0.tgz PackageFileSize: 358.7 KiB