Package: MMUPHin Version: 1.20.0 Command: /home/biocbuild/R/R/bin/R CMD check --install=check:MMUPHin.install-out.txt --library=/home/biocbuild/R/R/site-library --no-vignettes --timings MMUPHin_1.20.0.tar.gz StartedAt: 2025-01-31 08:13:27 -0000 (Fri, 31 Jan 2025) EndedAt: 2025-01-31 08:15:19 -0000 (Fri, 31 Jan 2025) EllapsedTime: 112.1 seconds RetCode: 0 Status: OK CheckDir: MMUPHin.Rcheck Warnings: 0