Package: MMUPHin Version: 1.20.0 Command: /home/biocbuild/bbs-3.20-bioc/R/bin/R CMD check --install=check:MMUPHin.install-out.txt --library=/home/biocbuild/bbs-3.20-bioc/R/site-library --timings MMUPHin_1.20.0.tar.gz StartedAt: 2025-01-31 00:05:17 -0500 (Fri, 31 Jan 2025) EndedAt: 2025-01-31 00:07:42 -0500 (Fri, 31 Jan 2025) EllapsedTime: 144.1 seconds RetCode: 0 Status: OK CheckDir: MMUPHin.Rcheck Warnings: 0