Package: MMUPHin Version: 1.20.0 Command: /home/biocbuild/bbs-3.20-bioc/R/bin/R CMD build --keep-empty-dirs --no-resave-data --md5 MMUPHin StartedAt: 2025-01-30 18:07:35 -0500 (Thu, 30 Jan 2025) EndedAt: 2025-01-30 18:08:32 -0500 (Thu, 30 Jan 2025) EllapsedTime: 57.0 seconds RetCode: 0 Status: OK PackageFile: MMUPHin_1.20.0.tar.gz PackageFileSize: 3.691 MiB