Package: MMDiff2 Version: 1.34.0 Command: /home/biocbuild/R/R/bin/R CMD check --install=check:MMDiff2.install-out.txt --library=/home/biocbuild/R/R/site-library --no-vignettes --timings MMDiff2_1.34.0.tar.gz StartedAt: 2025-01-31 08:13:21 -0000 (Fri, 31 Jan 2025) EndedAt: 2025-01-31 08:19:18 -0000 (Fri, 31 Jan 2025) EllapsedTime: 357.5 seconds RetCode: 0 Status: OK CheckDir: MMDiff2.Rcheck Warnings: 0