Package: MMDiff2 Version: 1.34.0 Command: /home/biocbuild/bbs-3.20-bioc/R/bin/R CMD INSTALL MMDiff2 StartedAt: 2025-01-30 15:32:00 -0500 (Thu, 30 Jan 2025) EndedAt: 2025-01-30 15:32:43 -0500 (Thu, 30 Jan 2025) EllapsedTime: 42.6 seconds RetCode: 0 Status: OK