Package: MMDiff2 Version: 1.34.0 Command: rm -rf MMDiff2.buildbin-libdir && mkdir MMDiff2.buildbin-libdir && /Users/biocbuild/BBS/utils/build-universal.sh MMDiff2_1.34.0.tar.gz /Library/Frameworks/R.framework/Resources/bin/R MMDiff2.buildbin-libdir StartedAt: 2025-02-01 15:47:23 -0500 (Sat, 01 Feb 2025) EndedAt: 2025-02-01 15:48:10 -0500 (Sat, 01 Feb 2025) EllapsedTime: 47.4 seconds RetCode: 0 Status: OK PackageFile: MMDiff2_1.34.0.tgz PackageFileSize: 3.069 MiB