Package: MGFR Version: 1.32.0 Command: /home/biocbuild/R/R/bin/R CMD build --keep-empty-dirs --no-resave-data MGFR StartedAt: 2025-01-31 00:52:58 -0000 (Fri, 31 Jan 2025) EndedAt: 2025-01-31 00:53:36 -0000 (Fri, 31 Jan 2025) EllapsedTime: 38.0 seconds RetCode: 0 Status: OK PackageFile: MGFR_1.32.0.tar.gz PackageFileSize: 1.816 MiB