Package: MGFM Version: 1.40.0 Command: chmod a+r MGFM -R && F:\biocbuild\bbs-3.20-bioc\R\bin\R.exe CMD build --keep-empty-dirs --no-resave-data MGFM StartedAt: 2025-01-30 20:05:53 -0500 (Thu, 30 Jan 2025) EndedAt: 2025-01-30 20:06:33 -0500 (Thu, 30 Jan 2025) EllapsedTime: 40.1 seconds RetCode: 0 Status: OK PackageFile: MGFM_1.40.0.tar.gz PackageFileSize: 3.3 MiB