Package: MEAT Version: 1.18.0 Command: /home/biocbuild/R/R/bin/R CMD check --install=check:MEAT.install-out.txt --library=/home/biocbuild/R/R/site-library --no-vignettes --timings MEAT_1.18.0.tar.gz StartedAt: 2025-01-31 07:49:28 -0000 (Fri, 31 Jan 2025) EndedAt: 2025-01-31 07:56:46 -0000 (Fri, 31 Jan 2025) EllapsedTime: 437.7 seconds RetCode: 0 Status: WARNINGS CheckDir: MEAT.Rcheck Warnings: 1