Package: MBttest Version: 1.34.0 Command: rm -rf MBttest.buildbin-libdir && mkdir MBttest.buildbin-libdir && /Users/biocbuild/BBS/utils/build-universal.sh MBttest_1.34.0.tar.gz /Library/Frameworks/R.framework/Resources/bin/R MBttest.buildbin-libdir StartedAt: 2025-02-01 15:35:40 -0500 (Sat, 01 Feb 2025) EndedAt: 2025-02-01 15:35:45 -0500 (Sat, 01 Feb 2025) EllapsedTime: 4.4 seconds RetCode: 0 Status: OK PackageFile: MBttest_1.34.0.tgz PackageFileSize: 2.587 MiB