Package: MAST Version: 1.32.0 Command: F:\biocbuild\bbs-3.20-bioc\R\bin\R.exe CMD INSTALL MAST StartedAt: 2025-01-30 16:03:57 -0500 (Thu, 30 Jan 2025) EndedAt: 2025-01-30 16:05:13 -0500 (Thu, 30 Jan 2025) EllapsedTime: 75.6 seconds RetCode: 0 Status: OK