Package: MAST Version: 1.32.0 Command: rm -rf MAST.buildbin-libdir && mkdir MAST.buildbin-libdir && F:\biocbuild\bbs-3.20-bioc\R\bin\R.exe CMD INSTALL --build --library=MAST.buildbin-libdir MAST_1.32.0.tar.gz StartedAt: 2025-01-31 08:58:59 -0500 (Fri, 31 Jan 2025) EndedAt: 2025-01-31 09:00:18 -0500 (Fri, 31 Jan 2025) EllapsedTime: 78.8 seconds RetCode: 0 Status: OK PackageFile: MAST_1.32.0.zip PackageFileSize: 6.08 MiB