Package: MAI Version: 1.12.0 Command: /home/biocbuild/R/R/bin/R CMD check --install=check:MAI.install-out.txt --library=/home/biocbuild/R/R/site-library --no-vignettes --timings MAI_1.12.0.tar.gz StartedAt: 2025-01-31 07:42:24 -0000 (Fri, 31 Jan 2025) EndedAt: 2025-01-31 07:52:37 -0000 (Fri, 31 Jan 2025) EllapsedTime: 612.9 seconds RetCode: 0 Status: OK CheckDir: MAI.Rcheck Warnings: 0