Package: MAI Version: 1.12.0 Command: F:\biocbuild\bbs-3.20-bioc\R\bin\R.exe CMD INSTALL MAI StartedAt: 2025-01-30 16:41:37 -0500 (Thu, 30 Jan 2025) EndedAt: 2025-01-30 16:42:10 -0500 (Thu, 30 Jan 2025) EllapsedTime: 32.8 seconds RetCode: 0 Status: OK