Package: MAI Version: 1.12.0 Command: rm -rf MAI.buildbin-libdir && mkdir MAI.buildbin-libdir && F:\biocbuild\bbs-3.20-bioc\R\bin\R.exe CMD INSTALL --build --library=MAI.buildbin-libdir MAI_1.12.0.tar.gz StartedAt: 2025-01-31 08:58:14 -0500 (Fri, 31 Jan 2025) EndedAt: 2025-01-31 08:58:46 -0500 (Fri, 31 Jan 2025) EllapsedTime: 31.2 seconds RetCode: 0 Status: OK PackageFile: MAI_1.12.0.zip PackageFileSize: 501.4 KiB