Package: MAI Version: 1.12.0 Command: /home/biocbuild/R/R/bin/R CMD build --keep-empty-dirs --no-resave-data MAI StartedAt: 2024-11-20 01:48:04 -0000 (Wed, 20 Nov 2024) EndedAt: 2024-11-20 01:55:44 -0000 (Wed, 20 Nov 2024) EllapsedTime: 459.6 seconds RetCode: 0 Status: OK PackageFile: MAI_1.12.0.tar.gz PackageFileSize: 520 KiB