Package: MAGAR Version: 1.14.0 Command: /home/biocbuild/R/R/bin/R CMD build --keep-empty-dirs --no-resave-data MAGAR StartedAt: 2025-01-31 00:36:38 -0000 (Fri, 31 Jan 2025) EndedAt: 2025-01-31 00:39:04 -0000 (Fri, 31 Jan 2025) EllapsedTime: 146.1 seconds RetCode: 0 Status: OK PackageFile: MAGAR_1.14.0.tar.gz PackageFileSize: 895.7 KiB